BEGIN:VCALENDAR
VERSION:2.0
PRODID:-//Drupal//recurring_events_ical//2.0//EN
BEGIN:VEVENT
UID:b087935b-8637-464d-81d2-1485de022ba2@support.access-ci.org
DTSTAMP:20230119T133825Z
DTSTART:20230124T160000Z
DTEND:20230124T170000Z
SUMMARY:ACES: Introduction to Linux
DESCRIPTION:This hour-long primer (an introductory lecture) covers basic to
 pics:\n\n\n	Basic commands\n	Process and filesystem concepts\n	Shells\n	I/
 O redirection\n	Shell scripts\n\n\nThis material is a pre-requisite for ma
 ny other ACES training courses. \n\nMore information about this Primer (
 and others) at https://hprc.tamu.edu/training/primers_popup.html\n\nDate/
 Time\n\nTuesday, January 24, 10 AM CST (1 hour) virtually on Zoom.\n\nPrer
 equisites\n\n\n	current ACCESS ID\n	current account on ACES resource\n\n\n
 \n	(Instructions to apply at: https://access-ci.atlassian.net/wiki/spaces
 /ACCESSdocumentation/pages/129141445/ACES+Texas+A+M#Apply-for-an-Accounts)
 \n\n\nRegistration\n\n\n	Link to registration form: https://tx.ag/HPRCInt
 roZ23S\n\n	\n		Select "Identity Provider=CILogon/ACCESS ID"
URL:https://support.access-ci.org/events/2628
END:VEVENT
END:VCALENDAR