BEGIN:VCALENDAR
VERSION:2.0
PRODID:-//Drupal//recurring_events_ical//2.0//EN
BEGIN:VEVENT
UID:afd4b10f-a15c-4d61-a472-4b468b9c7a50@support.access-ci.org
DTSTAMP:20230119T133726Z
DTSTART:20230131T193000Z
DTEND:20230131T193000Z
SUMMARY:ACES: Running Jupyter Notebook Using HPRC Portal
DESCRIPTION:This hour-long primer (an introductory lecture) covers starti
 ng and using a Jupyter notebook in Open On Demand on HPRC clusters.\n\nMor
 e information about this Primer (and others) at https://hprc.tamu.edu/tr
 aining/primers_popup.html\n\nDate/Time\n\nTuesday, January 31, 1:30 PM CST
  (1 hour) virtually on Zoom.\n\nPrerequisites\n\n\n	current ACCESS ID\n	cu
 rrent account on ACES resource\n\n\n\n	(Instructions to apply at: https:/
 /access-ci.atlassian.net/wiki/spaces/ACCESSdocumentation/pages/129141445/A
 CES+Texas+A+M#Apply-for-an-Accounts)\n\n\nRegistration\n\n\n	Link to regis
 tration form: https://tx.ag/HPRCIntroZ23S\n\n	\n		Select "Identity Provid
 er=CILogon/ACCESS ID"
URL:https://support.access-ci.org/events/2631
END:VEVENT
END:VCALENDAR