BEGIN:VCALENDAR
VERSION:2.0
PRODID:-//Drupal//recurring_events_ical//2.0//EN
BEGIN:VEVENT
UID:111bbb84-8778-44ad-a796-91638b6aae50@support.access-ci.org
DTSTAMP:20230202T163700Z
DTSTART:20230221T160000Z
DTEND:20230221T183000Z
SUMMARY:ACES: IPU Training
DESCRIPTION:This short course includes introduction to Graphcore IPU, demon
 stration to run models of different frameworks on IPU system, and conversi
 on of TensorFlow and PyTorch code to IPU code.\n\nMore information about 
 this short course at https://hprc.tamu.edu/training/aces_ipus.html
URL:https://support.access-ci.org/events/2637
END:VEVENT
END:VCALENDAR