BEGIN:VCALENDAR
VERSION:2.0
PRODID:-//Drupal//recurring_events_ical//2.0//EN
BEGIN:VEVENT
UID:81762be5-ba85-494e-908b-071e5e471908@support.access-ci.org
DTSTAMP:20230414T141315Z
DTSTART:20230425T130000Z
DTEND:20230427T180000Z
SUMMARY:GlobusWorld 2023
DESCRIPTION:Join Globus for the annual GlobusWorld conference, April 25-27,
  2023 – in Chicago or online!\n\nGlobusWorld brings together researchers
 , systems administrators, developers and IT leaders from top research comp
 uting centers, national labs, federal agencies, and universities around th
 e world. The event is designed to provide new insights into managing resea
 rch data and storage at scale, as well as building cutting-edge data porta
 ls and science gateways.
URL:https://support.access-ci.org/events/7161
END:VEVENT
END:VCALENDAR