BEGIN:VCALENDAR
VERSION:2.0
PRODID:-//Drupal//recurring_events_ical//2.0//EN
BEGIN:VEVENT
UID:7b37d68e-a470-435e-9fab-143a3cb3937b@support.access-ci.org
DTSTAMP:20230912T190232Z
DTSTART:20231005T170000Z
DTEND:20231005T173000Z
SUMMARY:Open OnDemand Tips and Tricks Call
DESCRIPTION:Hosted by the community, tips and tricks webinars share best pr
 actices of all things Open OnDemand. They take place on the first Thursday
  of every month at 1 p.m. ET.  Recordings of previous events are availabl
 e on the Open OnDemand website. 
URL:https://support.access-ci.org/events/7203
END:VEVENT
END:VCALENDAR