BEGIN:VCALENDAR
VERSION:2.0
PRODID:-//Drupal//recurring_events_ical//2.0//EN
BEGIN:VEVENT
UID:f6e06e45-28b4-41e2-9da2-fbe788770c64@support.access-ci.org
DTSTAMP:20231002T114700Z
DTSTART:20231010T150000Z
DTEND:20231010T173000Z
SUMMARY:ACES: Fundamentals of Containers
DESCRIPTION:This course introduces concepts of containers and covers common
  containerization tasks using the Charliecloud and Singularity container e
 ngines on the ACES cluster, a composable accelerator testbed at Texas A&M 
 University.Read more about the course at https://hprc.tamu.edu/training/ac
 es_container_fundamentals.html 
URL:https://support.access-ci.org/events/7208
END:VEVENT
END:VCALENDAR