BEGIN:VCALENDAR
VERSION:2.0
PRODID:-//Drupal//recurring_events_ical//2.0//EN
BEGIN:VEVENT
UID:190d8ce0-fe0b-42c1-baf9-9076b07b0dce@support.access-ci.org
DTSTAMP:20240215T095729Z
DTSTART:20240301T193000Z
DTEND:20240301T210000Z
SUMMARY:RCAC Software Installation 101
DESCRIPTION:Software Installation 101 is for anyone looking to learn the fu
 ndamentals of software installation on Linux/Unix-based high-performance c
 omputing systems. Prior experience with the command line and cluster compu
 ting will be helpful. Topics covered will include the following:Foundation
 sUnpackingCompiling from SourceCompiling from Source with DependenciesQA
URL:https://support.access-ci.org/events/7240
END:VEVENT
END:VCALENDAR