BEGIN:VCALENDAR
VERSION:2.0
PRODID:-//Drupal//recurring_events_ical//2.0//EN
BEGIN:VEVENT
UID:ee53c3f5-6b6d-4254-ac3f-2e5209d57348@support.access-ci.org
DTSTAMP:20240119T101239Z
DTSTART:20240319T183000Z
DTEND:20240319T200000Z
SUMMARY:GPUs and the OSPool: Best Practices
DESCRIPTION:Hosted by the OSG Facilitation team, this training will cover w
 hat you need to consider when transitioning existing GPU-based code from a
 nother computing system to the OSPool. We will review important GPU concep
 ts and terminology and how to request GPUs on the OSPool.Register via setm
 ore: https://osgfacilitation.setmore.com/bookclassRegistration opens one m
 onth in advance of the training.
URL:https://support.access-ci.org/events/7242
END:VEVENT
END:VCALENDAR