BEGIN:VCALENDAR
VERSION:2.0
PRODID:-//Drupal//recurring_events_ical//2.0//EN
BEGIN:VEVENT
UID:83ccb4f8-5403-453f-b071-642ece4eeab7@support.access-ci.org
DTSTAMP:20240205T111207Z
DTSTART:20240329T183000Z
DTEND:20240329T200000Z
SUMMARY:RCAC Generative AI Series Part 2: Underlying Architecture and Mecha
 nics
DESCRIPTION:Part 2 of the Generative AI workshop series delves deeper into 
 the technical underpinnings of generative AI. This workshop is intended fo
 r those who have either attended Part 1 or have a basic understanding of p
 rompt engineering. Participants will gain a high-level understanding of th
 e architecture and mechanics behind generative AI tools. The content will 
 remain adaptable, allowing for a focus on the most relevant and current as
 pects of AI architectures, including neural network layers, training proce
 sses, and how these elements contribute to the capabilities and limitation
 s of generative models.Registration is available on Microsoft Teams.
URL:https://support.access-ci.org/events/7343
END:VEVENT
END:VCALENDAR