BEGIN:VCALENDAR
VERSION:2.0
PRODID:-//Drupal//recurring_events_ical//2.0//EN
BEGIN:VEVENT
UID:0e194d1a-fb67-41f1-bd59-24e658744600@support.access-ci.org
DTSTAMP:20240205T111226Z
DTSTART:20240412T183000Z
DTEND:20240412T200000Z
SUMMARY:RCAC Generative AI Series Part 3: Tuning Custom Models
DESCRIPTION:In the final workshop of the Generative AI series, participants
  will learn about the advanced aspects of generative AI, focusing on custo
 mizing and tuning their models. Recommended for those who have attended th
 e first two parts or have equivalent knowledge, this session will provide 
 guidance on best practices for model tuning and customization. The worksho
 p will present an overview of techniques and considerations for personaliz
 ing generative AI models, including parameter adjustments, dataset selecti
 on, and ethical considerations in model development. The topics will be pr
 esented flexibly, allowing for adaptation to the latest trends and advance
 ments in the field.Registration is available on Microsoft Teams.
URL:https://support.access-ci.org/events/7345
END:VEVENT
END:VCALENDAR