BEGIN:VCALENDAR
VERSION:2.0
PRODID:-//Drupal//recurring_events_ical//2.0//EN
BEGIN:VEVENT
UID:fc10f77c-391a-4466-b82e-25531624e381@support.access-ci.org
DTSTAMP:20240201T125945Z
DTSTART:20240206T160000Z
DTEND:20240206T170000Z
SUMMARY:ACES: Using the Slurm Scheduler
DESCRIPTION:This 1-hour primer covers various job scheduling approaches usi
 ng the Slurm Workload Manager on the ACES cluster, a composable accelerato
 r testbed at Texas A&M University.More information about this primer at ht
 tps://hprc.tamu.edu/training/primers_popup.html
URL:https://support.access-ci.org/events/7347
END:VEVENT
END:VCALENDAR