BEGIN:VCALENDAR
VERSION:2.0
PRODID:-//Drupal//recurring_events_ical//2.0//EN
BEGIN:VEVENT
UID:0fb44f12-64e0-492c-abbb-50796e317759@support.access-ci.org
DTSTAMP:20240207T153039Z
DTSTART:20240213T160000Z
DTEND:20240213T183000Z
SUMMARY:Introduction to Composable Resources: ACES and FASTER
DESCRIPTION:Research computing on the composable ACES and FASTER clustersTh
 is course will provide an overview of composable technology, where hardwar
 e can be reallocated between servers based on user requirements, featuring
  the advanced accelerators available on the composable ACES and FASTER clu
 sters at Texas A&M University. Topics covered include hardware, access, po
 licies, file systems, and batch processing.More information about this Sh
 ort Course at https://hprc.tamu.edu/training/intro_composable.html
URL:https://support.access-ci.org/events/7350
END:VEVENT
END:VCALENDAR