BEGIN:VCALENDAR
VERSION:2.0
PRODID:-//Drupal//recurring_events_ical//2.0//EN
BEGIN:VEVENT
UID:0b907a09-342e-4197-8630-809958ae8ca7@support.access-ci.org
DTSTAMP:20240221T100513Z
DTSTART:20240606T170000Z
DTEND:20240606T173000Z
SUMMARY:Open OnDemand Community Meeting
DESCRIPTION:Hosted by the community, tips and tricks webinars share best pr
 actices of all things Open OnDemand. They take place on the first Thursday
  of every month at 1 p.m. ET.  Recordings of previous events are availab
 le.More information and Zoom coordinates are available on the Open OnDeman
 d Discourse forum.
URL:https://support.access-ci.org/events/7366
END:VEVENT
END:VCALENDAR