BEGIN:VCALENDAR
VERSION:2.0
PRODID:-//Drupal//recurring_events_ical//2.0//EN
BEGIN:VEVENT
UID:88fe26ce-35fa-4dac-a068-cda31af4be89@support.access-ci.org
DTSTAMP:20240925T204134Z
DTSTART:20241205T180000Z
DTEND:20241205T190000Z
SUMMARY:Open OnDemand Community Meeting
DESCRIPTION:Hosted by the community, tips and tricks webinars share best pr
 actices of all things Open OnDemand. They take place on the first Thursday
  of every month at 1 p.m. ET.  Recordings of previous events are availab
 le.More information and Zoom coordinates are available on the Open OnDeman
 d Discourse forum.
URL:https://support.access-ci.org/events/7372
END:VEVENT
END:VCALENDAR