BEGIN:VCALENDAR
VERSION:2.0
PRODID:-//Drupal//recurring_events_ical//2.0//EN
BEGIN:VEVENT
UID:4d86141f-885d-4a8e-acc7-0ac270fedc41@support.access-ci.org
DTSTAMP:20240221T101222Z
DTSTART:20241210T161500Z
DTEND:20241210T174500Z
SUMMARY:Open OnDemand Office Hours
DESCRIPTION:Hosted by our development team, Zoom open office hours are the 
 perfect opportunity to ask questions or make a suggestion. They are held o
 n the second Tuesday of every month from 11:15 a.m. to 12:45 p.m. ET.More 
 information and Zoom coordinates are available on the Open OnDemand Discou
 rse forum.
URL:https://support.access-ci.org/events/7382
END:VEVENT
END:VCALENDAR