BEGIN:VCALENDAR
VERSION:2.0
PRODID:-//Drupal//recurring_events_ical//2.0//EN
BEGIN:VEVENT
UID:c2c5b6e5-b204-4b51-85cb-3fd320d7c307@support.access-ci.org
DTSTAMP:20240301T150819Z
DTSTART:20240326T183000Z
DTEND:20240326T210000Z
SUMMARY:ACES: Introduction to CryoSPARC
DESCRIPTION:Introduction to CryoSPARC for Cryo-EM Data Processing in Collab
 oration with the Laboratory for Biomolecular Structure and Dynamics.This s
 hort course (2.5 hours) will cover aspects of using CryoSPARC on the ACES 
 cluster, a composable accelerator testbed at Texas A&M University, includi
 ng a hands-on tutorial using example image files.Read more at https://hprc
 .tamu.edu/training/aces_cryosparc.html
URL:https://support.access-ci.org/events/7405
END:VEVENT
END:VCALENDAR