BEGIN:VCALENDAR
VERSION:2.0
PRODID:-//Drupal//recurring_events_ical//2.0//EN
BEGIN:VEVENT
UID:4305fee4-2fd1-4fa5-a22d-a673ebea6352@support.access-ci.org
DTSTAMP:20240304T144756Z
DTSTART:20240327T190000Z
DTEND:20240327T200000Z
SUMMARY:Globus Office Hours
DESCRIPTION:Do you have a question about Globus? Please join our experts du
 ring Globus Office Hours and let us help you. Get answers to all your ques
 tions.No need to register. Click here to join.
URL:https://support.access-ci.org/events/7449
END:VEVENT
END:VCALENDAR