BEGIN:VCALENDAR
VERSION:2.0
PRODID:-//Drupal//recurring_events_ical//2.0//EN
BEGIN:VEVENT
UID:bf313b79-7c5c-4dfd-8267-2dfd7412d89e@support.access-ci.org
DTSTAMP:20240328T230605Z
DTSTART:20240409T150000Z
DTEND:20240409T173000Z
SUMMARY:ACES: NGS Metagenomics
DESCRIPTION:This short course introduces concepts of metagenomics analysis 
 based on data generated by Next Generation Sequencing (NGS) technology usi
 ng the QIIME2 software suite. Exercises will be performed using the ACES c
 luster, a composable accelerator testbed at Texas A&M University. Read mo
 re at https://hprc.tamu.edu/training/aces_metagenomics.html 
URL:https://support.access-ci.org/events/7465
END:VEVENT
END:VCALENDAR