BEGIN:VCALENDAR
VERSION:2.0
PRODID:-//Drupal//recurring_events_ical//2.0//EN
BEGIN:VEVENT
UID:39ddc034-b0e3-4f81-8b86-ec5b5869c009@support.access-ci.org
DTSTAMP:20240328T124230Z
DTSTART:20240625T150000Z
DTEND:20240628T000000Z
SUMMARY:Cyberinfrastructure-Enabled Machine Learning Summer Institute
DESCRIPTION:The San Diego Supercomputer Center (SDSC) Cyberinfrastructure-E
 nabled Machine Learning (CIML) project is focused on teaching researchers 
 and students the best practices for effectively running machine learning (
 ML) and data science applications on advanced cyberinfrastructure (CI) and
  high-performance computing (HPC) systems.The CIML developers and educator
 s to techniques and methods needed to migrate their ML applications from s
 maller, locally run resources, such as laptops and workstations, to large-
 scale HPC systems, such as the SDSC’s Expanse supercomputer. Participant
 s will have the opportunity to accelerate their learning process through h
 ighly interactive classes with hands-on tutorials using SDSC’s Expanse.A
 pply Today!Deadline to apply is Friday, April 12, 2024.Preparation Day (vi
 rtual): Tuesday, June 18, 2024, from 9 am - 11 am (Pacific Time)Summer Ins
 titute (in-person): Tuesday, June 25 – Thursday, June 27, 2024, from 8 a
 m - 5 pm (Pacific Time)Location: SDSC Auditorium, UC San Diego campusProgr
 am includes:Overview of High-Performance Computing (HPC) and Parallel Comp
 uting ConceptsInstructional and hands-on exercises focused on HPC techniqu
 es, Machine Learning, Scalable Machine Learning, Deep Learning, and Large 
 Language Model (LLM) inferenceTeam works on prepared training problems  V
 isit the CIML website for full details regarding this summer institute. T
 estimonials:"This is an excellent program. It covers a wide range of topic
 s, from the basics of parallel computing to more advanced such as transfer
  learning. Instructors provide clear and engaging instructions. It is high
 ly recommended.”- Minh, 2023 CIML attendee"Yes. The machine learning par
 t is very good, high level of abstract and broad summary, better than many
  online learning material."- Yanni, 2023 CIML attendee--- See a full list
  of SDSC's upcoming training and events: https://www.sdsc.edu/news_and_eve
 nts/events.html. 
URL:https://support.access-ci.org/events/7471
END:VEVENT
END:VCALENDAR