BEGIN:VCALENDAR
VERSION:2.0
PRODID:-//Drupal//recurring_events_ical//2.0//EN
BEGIN:VEVENT
UID:599b3456-62be-4536-b85a-910a733e8b0d@support.access-ci.org
DTSTAMP:20240606T131628Z
DTSTART:20240612T190000Z
DTEND:20240612T200000Z
SUMMARY:Globus Office Hours
DESCRIPTION:This Office Hours session will begin with a brief talk about au
 thentication policy and authorization in Globus Connect Server. Come and l
 earn more about Globus Connect Server or bring any Globus questions to the
  session.Learn more and join: https://www.globus.org/events/globus-office-
 hours-june-12-2024
URL:https://support.access-ci.org/events/7497
END:VEVENT
END:VCALENDAR