BEGIN:VCALENDAR
VERSION:2.0
PRODID:-//Drupal//recurring_events_ical//2.0//EN
BEGIN:VEVENT
UID:74634804-b4f8-4a88-a10b-fd4097147715@support.access-ci.org
DTSTAMP:20240829T165518Z
DTSTART:20241001T150000Z
DTEND:20241001T173000Z
SUMMARY:ACES: Graphcore IPU Tutorial
DESCRIPTION:This short course (2.5 hours) introduces researchers to Graphco
 re Intelligence Processing Units (IPUs) on the ACES cluster, a composable 
 accelerator testbed at Texas A&M High Performance Research Computing. The 
 instructor will demonstrate the execution of models from different framewo
 rks on the IPU system, and participants will gain practical experience in 
 converting TensorFlow and PyTorch code into IPU code through hands-on exer
 cises.Prerequisites: Current ACCESS ID; basic Linux/Unix skills; basic und
 erstanding of machine learning concepts, neural networks, and deep learnin
 g; familiarity with deep learning frameworks TensorFlow and/or PyTorch. R
 ead more at https://hprc.tamu.edu/training/aces_ipus.html
URL:https://support.access-ci.org/events/7552
END:VEVENT
END:VCALENDAR