BEGIN:VCALENDAR
VERSION:2.0
PRODID:-//Drupal//recurring_events_ical//2.0//EN
BEGIN:VEVENT
UID:c6d2eee5-2d18-46ab-80c2-37d9a3e701fa@support.access-ci.org
DTSTAMP:20240829T165441Z
DTSTART:20241015T150000Z
DTEND:20241015T173000Z
SUMMARY:ACES: Fundamentals of Containers
DESCRIPTION:This course introduces concepts of containers and covers common
  containerization tasks using the Charliecloud and Singularity container e
 ngines on the ACES cluster, a composable accelerator testbed at Texas A&M 
 University.Read more about the course at https://hprc.tamu.edu/training/ac
 es_containers.html 
URL:https://support.access-ci.org/events/7554
END:VEVENT
END:VCALENDAR