BEGIN:VCALENDAR
VERSION:2.0
PRODID:-//Drupal//recurring_events_ical//2.0//EN
BEGIN:VEVENT
UID:a0722360-e5fa-4266-8f4d-f5fa45ab03c4@support.access-ci.org
DTSTAMP:20241025T135417Z
DTSTART:20241112T193000Z
DTEND:20241112T220000Z
SUMMARY:ACES: GPU Programming (CUDA)
DESCRIPTION:This short course covers basic topics in CUDA programming on NV
 IDIA GPUs. Topics include\n\n\n	CUDA architecture\n	basic language usage o
 f CUDA C/C++\n	writing, executing CUDA code.\n\n\nMore information about 
 this Short Course https://hprc.tamu.edu/training/intro_cuda.html
URL:https://support.access-ci.org/events/7561
END:VEVENT
END:VCALENDAR