BEGIN:VCALENDAR
VERSION:2.0
PRODID:-//Drupal//recurring_events_ical//2.0//EN
BEGIN:VEVENT
UID:4f280056-0e73-4b18-95ed-2759c3cb8e95@support.access-ci.org
DTSTAMP:20240904T143342Z
DTSTART:20241015T183000Z
DTEND:20241015T200000Z
SUMMARY:Workflows with Pegasus
DESCRIPTION:Hosted by the OSG Facilitation team, this training will cover a
 n introduction to the Pegasus Workflow Management System, which is a usefu
 l tool for researchers needing to execute a large number of jobs or comple
 x workflows. Attendees will learn how to construct and manage workflows, 
 capabilities like automatic data transfers, and higher level tooling to an
 alyze the workflow performance.Any researcher at a US institution can join
  this training! No account is necessary. There are no prerequisites for th
 is workshop, however, a basic understanding of HTCondor job submission and
  HTCondor submit files will make it easier to understand the content prese
 nted.Register via setmore: https://osgfacilitation.setmore.com/#classesReg
 istration opens one month in advance of the training.
URL:https://support.access-ci.org/events/7566
END:VEVENT
END:VCALENDAR