BEGIN:VCALENDAR
VERSION:2.0
PRODID:-//Drupal//recurring_events_ical//2.0//EN
BEGIN:VEVENT
UID:0b132d60-a740-4433-b440-3e689bdd8614@support.access-ci.org
DTSTAMP:20240930T194839Z
DTSTART:20241009T180000Z
DTEND:20241009T190000Z
SUMMARY:Webinar: Unlock AI Innovation with Vocareum AI Notebook
DESCRIPTION:Upcoming webinar in the “Bringing AI to Campus” series, fea
 turing the Vocareum AI Notebook—an enhanced Jupyter environment designed
  to be the ultimate AI Sandbox for your classroom, complete with Managed A
 PI Keys and more.Date: Wednesday, October 9, 2024Time: 11:00am to 12:00pm 
 PT / 2:00pm to 3:00pm ETRegistration: https://us02web.zoom.us/webinar/regi
 ster/WN_uGC3TEhFTDCxCs6TS6Ng-g#/registrationWhy Attend?Deliver a Seamless 
 Jupyter Experience with Controlled AI AccessDiscover how the Vocareum AI N
 otebook elevates the traditional Jupyter environment by integrating contro
 lled access to AI resources directly within the notebook. No complex setup
 s—just a smooth, efficient platform.Manage API Keys with Secure AI Acces
 sSimplify the management of AI and GenAI API keys in your courses. Provide
  secure access to AI models like ChatGPT, Claude, Gemini, and privately-ho
 sted Llama 2/3—all within a single notebook environment.Empower Your Stu
 dents with an All-in-One AI SandboxEnable students to explore and innovate
  with AI technologies across subjects in a secure, versatile sandbox with 
 integrated AI resources and controlled GPU access.Seamless LMS Integration
 , No Downloads RequiredEffortlessly integrate with your LMS and access the
  Vocareum AI Notebook directly from the browser—no installations needed,
  ensuring easy access for you and your students.Enhance Teaching and Learn
 ing with Built-In ToolsLeverage built-in features like auto-grading to str
 eamline assessments and provide immediate feedback, enriching the educatio
 nal experience. 
URL:https://support.access-ci.org/events/7581
END:VEVENT
END:VCALENDAR