BEGIN:VCALENDAR
VERSION:2.0
PRODID:-//Drupal//recurring_events_ical//2.0//EN
BEGIN:VEVENT
UID:134c94c6-b768-41c0-bf19-b340f8f138a9@support.access-ci.org
DTSTAMP:20241001T091512Z
DTSTART:20241015T150000Z
DTEND:20241016T210000Z
SUMMARY:HPC Monthly Workshop: Machine Learning and BIG DATA October 15-16, 
 2024
DESCRIPTION:HPC Monthly Workshop: Machine Learning and BIG DATAOctober 15-1
 6, 2024The Pittsburgh Supercomputing Center is pleased to present a Machin
 e Learning and Big Data workshop.This workshop will focus on topics includ
 ing big data analytics and machine learning with Spark, and deep  lea
 rning using Tensorflow.This will be an IN PERSON event hosted by various 
 satellite sites, there WILL NOT be a direct to desktop option for this eve
 nt.  The satellite site list(subject to change) is as followsCarnegie Mel
 lon University (PSC)Florida International University – SOLD OUTUniversi
 ty of Houston – Clear LakeIowa State UniversityJet Propulsion Laboratory
  – NASA (Not Open To Public)National Center for Supercomputing Applicati
 onsUniversity of North DakotaNorthwestern UniversityUniversity of Texas at
  ArlingtonTexas Tech UniversityRegistrationInterested applicants must firs
 t have an ACCESS ID.  If you do not have an ACCESS ID, please visit this 
 page to create one:ACCESS USER REGISTRATIONOnce you have an ACCESS ID, ple
 ase send email (indicating your ACCESS ID and which site you wish to atten
 d) to Tom Maiden at tmaiden@psc.edu by Friday, October 11 at Noon Eastern
  time.Classroom location and further details will be provided once your re
 gistration has been processed.  Thank you for your patience.Please visit 
 the workshop webpage for further details including agenda and slide decks:
 https://www.psc.edu/resources/training/hpc-workshop-big-data-october-15-16
 -2024/
URL:https://support.access-ci.org/events/7582
END:VEVENT
END:VCALENDAR