BEGIN:VCALENDAR
VERSION:2.0
PRODID:-//Drupal//recurring_events_ical//2.0//EN
BEGIN:VEVENT
UID:1e0e836c-dd8e-43da-99ed-86e2d2d43c74@support.access-ci.org
DTSTAMP:20241014T215940Z
DTSTART:20241031T140000Z
DTEND:20241031T153000Z
SUMMARY:Vocareum and Open edX: Advancing Cloud, AI, and Design Systems in O
 nline Education
DESCRIPTION:We are so excited to announce that Vocareum will be a featured 
 presenter at an upcoming webinar, Advancing Cloud, AI, and Design Systems 
 in Online Education, hosted by Open edX, where we’ll be showcasing how c
 loud and AI technologies are transforming education at scale. Join us as w
 e explore cutting-edge solutions designed to help educators and institutio
 ns thrive in a tech-driven learning environment. Register today and join 
 us as we delve into the future of scalable learning solutions!
URL:https://support.access-ci.org/events/7585
END:VEVENT
END:VCALENDAR