BEGIN:VCALENDAR
VERSION:2.0
PRODID:-//Drupal//recurring_events_ical//2.0//EN
BEGIN:VEVENT
UID:31ad428e-a66f-4406-aee7-0bc4b8a565fe@support.access-ci.org
DTSTAMP:20250719T000643Z
DTSTART:20241017T160000Z
DTEND:20241017T170000Z
SUMMARY:CCMNet Monthly All Hands Meeting
DESCRIPTION:Monthly gathering of the Cyberinfrastructure Community-wide Men
 torship Network which unites cyberinfrastructure professionals to enhance 
 community support for research and academic institutions, maximizing cyber
 infrastructure utilization for research advancement through peer mentoring
  engagements.  Zoom
URL:https://support.access-ci.org/events/7599
END:VEVENT
END:VCALENDAR