BEGIN:VCALENDAR
VERSION:2.0
PRODID:-//Drupal//recurring_events_ical//2.0//EN
BEGIN:VEVENT
UID:82a0ac9b-706d-465c-b8c4-803fc11b1fd5@support.access-ci.org
DTSTAMP:20241022T114300Z
DTSTART:20241113T160000Z
DTEND:20241113T220000Z
SUMMARY:HPC Workshop: GPU Programming Using OpenACC November 13, 2024
DESCRIPTION:The Pittsburgh Supercomputing Center is pleased to present a wo
 rkshop on GPU programming using OpenACC.OpenACC is the accepted standard u
 sing compiler directives to allow quick development of GPU capable codes u
 sing standard languages and compilers. It has been used with great success
  to accelerate real applications within very short development periods. Th
 is workshop assumes knowledge of either C or Fortran programming.  Hands-
 on exercises using the Bridges-2 computing platform at the Pittsburgh Supe
 rcomputing Center are included to give attendees practice with the concept
 s presented.This will be an IN PERSON event hosted by various satellite si
 tes, there WILL NOT be a direct to desktop option for this event.The satel
 lite site list(subject to change) is as follows:California State Universit
 y, San Bernadino, High Performance Computing ProgramCarnegie Mellon Univer
 sity (PSC)Clarkson UniversityGeorgia State UniversityUniversity of Houston
  – Clear LakeIowa State UniversityJet Propulsion Laboratory – NASA (No
 t Open To Public)National Center for Supercomputing ApplicationsNorthweste
 rn University (CIERA)Purdue UniversityWest Virginia State UniversityUniver
 sity of UtahUniversity of California, Los AngelesRegistrationInterested ap
 plicants must first have an ACCESS ID. If you do not have an ACCESS ID, pl
 ease visit this page to create one:ACCESS USER REGISTRATIONOnce you have a
 n ACCESS ID, please send email (indicating your ACCESS ID and which site y
 ou wish to attend) to Tom Maiden at tmaiden@psc.edu by Monday, November 1
 1 at Noon Eastern time.Classroom location and further details will be prov
 ided once your registration has been processed. Thank you for your patienc
 e.Please see the workshop website for further details:https://www.psc.edu/
 resources/training/hpc-workshop-november-13-2024-gpu-programming-using-ope
 nacc/
URL:https://support.access-ci.org/events/7606
END:VEVENT
END:VCALENDAR