BEGIN:VCALENDAR
VERSION:2.0
PRODID:-//Drupal//recurring_events_ical//2.0//EN
BEGIN:VEVENT
UID:63705984-b738-4678-a8fd-ae7363ef49f4@support.access-ci.org
DTSTAMP:20241023T123920Z
DTSTART:20241030T180000Z
DTEND:20241030T200000Z
SUMMARY:Getting Started with Jetstream2
DESCRIPTION:This virtual workshop is for any US-based researcher or educato
 r, regardless of previous cloud computing experience. If you're new to Jet
 stream2 or just interested in learning about our resources, this is a grea
 t place to start.Attendees will hear an overview of Jetstream2 including v
 arious examples and use cases, learn about the National Science Foundation
 's Advanced Cyberinfrastructure Coordination Ecosystem: Services & Support
  (ACCESS) program, and learn helpful tips and tricks.Hands-on activities w
 ill include how to access Jetstream2, as well as launching and managing vi
 rtual machines via the Exosphere interface.Note: An ACCESS user ID is nece
 ssary to participate in the hands-on activities.
URL:https://support.access-ci.org/events/7607
END:VEVENT
END:VCALENDAR