BEGIN:VCALENDAR
VERSION:2.0
PRODID:-//Drupal//recurring_events_ical//2.0//EN
BEGIN:VEVENT
UID:c8fe9375-f97b-4966-85eb-09b586f77270@support.access-ci.org
DTSTAMP:20241121T083634Z
DTSTART:20241210T160000Z
DTEND:20241211T220000Z
SUMMARY:HPC Monthly Workshop: MPI
DESCRIPTION:This workshop is intended to give C and Fortran programmers a h
 ands-on introduction to MPI programming. Both days are compact, to accommo
 date multiple time zones, but packed with useful information and lab exerc
 ises. Attendees will leave with a working knowledge of how to write scalab
 le codes using MPI – the standard programming tool of scalable parallel 
 computing.PSC is pleased to present monthly workshops on a variety of HPC 
 topics. Each workshop will be telecast to multiple satellite sites.This ev
 ent will be presented using the Wide Area Classroom(WAC) training platform
 . This will be an IN PERSON event hosted by various satellite sites, ther
 e WILL NOT be a direct to desktop option for this event. The satellite sit
 e list (subject to change) is as follows:Carnegie Mellon UniversityCalifor
 nia State University, San BernardinoClarkson UniversityUniversity of Delaw
 areFlorida International UniversityGeorgia State UniversityUniversity of H
 ouston – Clear LakeIowa State UniversityJet Propulsion Laboratory – NA
 SA (Not Open To Public)National Center for Supercomputing ApplicationsNew 
 Jersey Institute of TechnologyNorthwestern University (CIERA)Purdue Univer
 sityUniversity of UtahUniversity of California, Los AngelesMore sites Comi
 ng SoonRegistrationInterested applicants must first have an ACCESS ID.  I
 f you do not have an ACCESS ID, please visit this page to create one:ACCES
 S USER REGISTRATIONOnce you have an ACCESS ID, please send email (indicati
 ng your ACCESS ID and which site you wish to attend) to Tom Maiden at tma
 iden@psc.edu by Friday, December 6 at Noon Eastern time.Classroom location
  and further details will be provided once your registration has been proc
 essed.  Thank you for your patience.For more information, visit the works
 hop website: https://www.psc.edu/resources/training/hpc-workshop-december-
 2024-mpi/
URL:https://support.access-ci.org/events/7634
END:VEVENT
END:VCALENDAR