BEGIN:VCALENDAR
VERSION:2.0
PRODID:-//Drupal//recurring_events_ical//2.0//EN
BEGIN:VEVENT
UID:5a5a6e00-6120-4ed4-8bcb-dda50fa37892@support.access-ci.org
DTSTAMP:20241210T155718Z
DTSTART:20241217T200000Z
DTEND:20241217T210000Z
SUMMARY:NAIRR Pilot Office Hours
DESCRIPTION:NAIRR Pilot will offer bi-weekly SCIPE-led Office Hours over Zo
 om. We are happy to assist with questions related to active awards and the
  NAIRR Pilot** call. Registration is required to receive the Zoom link. Of
 fice Hours will be hosted by SCIPE Cyberinfrastructure Professionals (CIPs
 ).Register here. ** We are unable to answer questions related to the NAIRR
  Pilot Expansion/DCL or other NSF calls during Office Hours.
URL:https://support.access-ci.org/events/7640
END:VEVENT
END:VCALENDAR