BEGIN:VCALENDAR
VERSION:2.0
PRODID:-//Drupal//recurring_events_ical//2.0//EN
BEGIN:VEVENT
UID:e298122e-226c-46a8-8553-bc0f2fc9e9d7@support.access-ci.org
DTSTAMP:20241220T151228Z
DTSTART:20250421T190000Z
DTEND:20250424T180000Z
SUMMARY:GlobusWorld 2025
DESCRIPTION:Join us for the annual GlobusWorld conference, April 21-24, 202
 5 in Chicago.GlobusWorld brings together researchers, systems administrato
 rs, developers and IT leaders from top research computing centers, nationa
 l labs, federal agencies, and universities around the world. The event is 
 designed to provide new insights into managing research data, storage and 
 compute at scale, as well as building cutting-edge data portals and scienc
 e gateways.In this conference you will:Learn some of the latest techniques
  for automating instrument data handling.See how to make cloud storage mor
 e accessible to all your researchers and staff across your campus or organ
 ization.Learn how the Globus platform services accelerate the development 
 of cutting-edge data portals and science gateways.See how Globus Flows can
  facilitate and accelerate publication for anyone in information managemen
 t sciences.Learn how to compute anywhere with Globus Compute. See how to s
 eamlessly manage execution across distributed resources.Note: In advance o
 f the conference there will be a series of introductory online sessions wh
 ich anyone can join for free. Registration is required.Learn more here: Gl
 obusWorld 2025 - Program
URL:https://support.access-ci.org/events/7648
END:VEVENT
END:VCALENDAR