BEGIN:VCALENDAR
VERSION:2.0
PRODID:-//Drupal//recurring_events_ical//2.0//EN
BEGIN:VEVENT
UID:c53b76de-4294-45b1-ac8d-16c6e6b794e5@support.access-ci.org
DTSTAMP:20241223T132659Z
DTSTART:20250121T160000Z
DTEND:20250121T183000Z
SUMMARY:ACES & FASTER: Introduction to Composable Computing
DESCRIPTION:Research computing on the composable ACES and FASTER clustersTh
 is course will provide an overview of composable technology, where hardwar
 e can be reallocated between servers based on user requirements, featuring
  the advanced accelerators available on the composable ACES and FASTER clu
 sters at Texas A&M University. Topics covered include hardware, access, po
 licies, file systems, and batch processing.More information about this Sh
 ort Course at https://hprc.tamu.edu/training/intro_composable.html
URL:https://support.access-ci.org/events/7649
END:VEVENT
END:VCALENDAR