BEGIN:VCALENDAR
VERSION:2.0
PRODID:-//Drupal//recurring_events_ical//2.0//EN
BEGIN:VEVENT
UID:215df7e4-6e49-471a-91d5-ad5598ecd90a@support.access-ci.org
DTSTAMP:20241223T132320Z
DTSTART:20250128T160000Z
DTEND:20250128T220000Z
SUMMARY:ACES: Python for New Programmers
DESCRIPTION:This one-day course for new programmers (no programming experie
 nce required) introduces concepts of programming and the Python programmin
 g language. Exercises will be performed in the learner's web browser in Ju
 pyter Notebooks running in the Open OnDemand portal of the ACES cluster. T
 his course will establish a foundation for HPRC courses taught later in th
 e semester that will cover data science and AI in Python.More information 
 about this course at https://hprc.tamu.edu/training/aces_intro_python.htm
 l 
URL:https://support.access-ci.org/events/7651
END:VEVENT
END:VCALENDAR