BEGIN:VCALENDAR
VERSION:2.0
PRODID:-//Drupal//recurring_events_ical//2.0//EN
BEGIN:VEVENT
UID:67a83489-8e2c-4fe4-871d-bdf2e15b837f@support.access-ci.org
DTSTAMP:20250102T133743Z
DTSTART:20250123T190000Z
DTEND:20250123T203000Z
SUMMARY:COMPLECS: Intermediate Linux
DESCRIPTION:Knowledge of Linux is indispensable for using advanced CI. Whil
 e GUIs are becoming more prevalent, being able to work at the command line
  interface (CLI) provides the greatest power and flexibility. In this sess
 ion, we assume that participants are already comfortable with basic Linux 
 operations such as creating, deleting and renaming files, and navigating b
 etween directories. Topics covered include the filesystem hierarchy, file 
 permissions, symbolic and hard links, wildcards and file globbing, finding
  commands and files, environment variables and modules, configuration file
 s, aliases, and history.InstructorRobert Sinkovits, Director of Education 
 and Training, SDSCDr. Sinkovits leads the education and training efforts a
 t the San Diego Supercomputer Center, where he has been a computational sc
 ientist for more than 25 years. He has collaborated with researchers spann
 ing many fields including physics, chemistry, astronomy, structural biolog
 y, finance, ecology, climate, immunology, and the social sciences, always 
 with an emphasis on making the most effective use of high-performance comp
 uting resources. Dr. Sinkovits is the PI for the COMPLECS CyberTraining pr
 oject and co-PI for the Voyager and Expanse supercomputer awards.See a ful
 l list of SDSC's upcoming training and events here.COMPLECS (COMPrehensive
  Learning for end-users to Effectively utilize CyberinfraStructure) is a n
 ew SDSC program where training will cover non-programming skills needed to
  effectively use supercomputers. Topics include parallel computing concept
 s, Linux tools and bash scripting, security, batch computing, how to get h
 elp, data management and interactive computing. Each session offers 1 hour
  of instruction followed by a 30-minute Q&A. COMPLECS is supported by NSF 
 award 2320934.
URL:https://support.access-ci.org/events/7716
END:VEVENT
END:VCALENDAR