BEGIN:VCALENDAR
VERSION:2.0
PRODID:-//Drupal//recurring_events_ical//2.0//EN
BEGIN:VEVENT
UID:82fc41c8-2c1f-4e81-b5a3-19e8ad180ebf@support.access-ci.org
DTSTAMP:20250106T092243Z
DTSTART:20250121T190000Z
DTEND:20250121T200000Z
SUMMARY:ACCESS Allocations: Writing and Submitting a Maximize Proposal
DESCRIPTION:Please join us to discuss the do's and don'ts of writing/prepar
 ing along with submitting a Maximize proposal. If your research needs larg
 e amounts of resources compute or storage, and you are considering submitt
 ing a renewal or new Maximize proposal then this session is for you. The u
 pcoming bi-annual submission period starting December 15, 2024 - January 3
 1, 2025 with awards starting April 1, 2025.
URL:https://support.access-ci.org/events/7725
END:VEVENT
END:VCALENDAR