BEGIN:VCALENDAR
VERSION:2.0
PRODID:-//Drupal//recurring_events_ical//2.0//EN
BEGIN:VEVENT
UID:faf4d9bf-c11f-4670-921e-51565cdfcb82@support.access-ci.org
DTSTAMP:20250131T111511Z
DTSTART:20250204T160000Z
DTEND:20250204T170000Z
SUMMARY:ACES: Running Jupyter Notebook on the ACES Portal
DESCRIPTION:This 1-hour primer covers starting and using a Jupyter notebook
  in Open OnDemand on the ACES cluster, a composable accelerator testbed at
  Texas A&M University. Jupyter Notebooks allow for interactive coding in s
 everal languages and documentation via Markdown.More information about thi
 s primer at https://hprc.tamu.edu/training/primer_jupyter.html
URL:https://support.access-ci.org/events/7805
END:VEVENT
END:VCALENDAR