BEGIN:VCALENDAR
VERSION:2.0
PRODID:-//Drupal//recurring_events_ical//2.0//EN
BEGIN:VEVENT
UID:7ada0311-e33d-43e0-81aa-631084facc36@support.access-ci.org
DTSTAMP:20250131T111856Z
DTSTART:20250211T160000Z
DTEND:20250211T220000Z
SUMMARY:ACES: Python for Programmers (New to Python)
DESCRIPTION:This one-day course for experienced programmers (in any program
 ming language) introduces the basic algorithm-oriented and object-oriented
  programming styles of the Python programming language. Exercises will be 
 performed in the learner's web browser in Jupyter Notebooks running in the
  Open OnDemand portal of the ACES cluster. This course will establish a fo
 undation for HPRC courses taught later in the semester that will cover dat
 a science and AI in Python.More information about this course at https://
 hprc.tamu.edu/training/aces_python4programmers.html
URL:https://support.access-ci.org/events/7806
END:VEVENT
END:VCALENDAR