BEGIN:VCALENDAR
VERSION:2.0
PRODID:-//Drupal//recurring_events_ical//2.0//EN
BEGIN:VEVENT
UID:93f4859b-df00-4ee2-a511-8d3d8e9b1040@support.access-ci.org
DTSTAMP:20250131T111203Z
DTSTART:20250204T193000Z
DTEND:20250204T220000Z
SUMMARY:ACES: Applying for Allocations - ACCESS, NAIRR, TAMUS and TAMU
DESCRIPTION:This short course (2.5 hours) covers the process of applying fo
 r allocations on the ACES testbed high performance cluster at Texas A&M Un
 iversity. ACCESS is the system through which accounts are created, Users w
 ill be taken through the steps to apply for an account, request an ACCESS 
 allocation, and exchange units for ACES service units. NAIRR proposals to 
 use ACES will also be addressed. Read more about this short course at htt
 ps://hprc.tamu.edu/training/aces_applying.html
URL:https://support.access-ci.org/events/7808
END:VEVENT
END:VCALENDAR