BEGIN:VCALENDAR
VERSION:2.0
PRODID:-//Drupal//recurring_events_ical//2.0//EN
BEGIN:VEVENT
UID:b54868c7-962b-4a24-bf62-639fb42bcb32@support.access-ci.org
DTSTAMP:20250207T112334Z
DTSTART:20250224T210000Z
DTEND:20250224T220000Z
SUMMARY:Intel COE @ ALCF Office Hours
DESCRIPTION:Please join us for a presentation by Brian Holland and Michael 
 D'Mello of the Intel COE @ ALCF. This presentation will cover the availabi
 lity and use of frameworks and libraries for a variety of AI workloads, in
 cluding LLMs.Speaker profiles:Brian Holland is a computer scientist in the
  Intel COE at ALCF focused on HPC and AI. Brian has been involved in the d
 eployment of various ML workflows at scale on the Aurora Exascale Supercom
 puter (https://www.anl.gov/aurora).Michael D'Mello is a scientist in the I
 ntel COE at ALCF. His interests center on the use of AI in the physical an
 d life sciences. *The Intel COE @ ALCF is a small team of engineers and s
 cientists from Intel® Corporation focused on Scientific Computing and AI-
 in-Science. As contributors to the NAIRR and ACCESS programs, the team per
 iodically hosts open forum style discussions on topics of interest to memb
 ers of NSF’s science and AI communities.Sessions are typically held from
  3:00pm-4:00pm CST via Teams on a suitable Monday once a month. Some allow
 ances are made to accommodate holidays, availability of speakers etc. Atte
 ndees have the opportunity to interact with experts from the extended HPC 
 community.Please register to join us for sessions of interest to you.
URL:https://support.access-ci.org/events/7824
END:VEVENT
END:VCALENDAR