BEGIN:VCALENDAR
VERSION:2.0
PRODID:-//Drupal//recurring_events_ical//2.0//EN
BEGIN:VEVENT
UID:55d5dc97-2faf-4991-a5b2-b10ffc84b2f1@support.access-ci.org
DTSTAMP:20250213T162151Z
DTSTART:20250306T190000Z
DTEND:20250306T203000Z
SUMMARY:Getting Started with Jetstream2
DESCRIPTION:This virtual workshop is for any US-based researcher or educato
 r, regardless of previous cloud computing experience. If you're new to Jet
 stream2 or just interested in learning about our resources, this is a grea
 t place to start.Attendees will hear an overview of Jetstream2 including v
 arious examples and use cases, learn about the National Science Foundation
 's Advanced Cyberinfrastructure Coordination Ecosystem: Services & Support
  (ACCESS) program, and learn helpful tips and tricks.Hands-on activities w
 ill include how to access Jetstream2, as well as launching and managing vi
 rtual machines via the Exosphere interface.This workshop is hosted by the 
 Jetstream2 Support team, part of Research Cloud Services at Indiana Univer
 sity. Jetstream2 allocates resources to researchers and educators across t
 he US through the NSF-funded ACCESS project and the NAIRR Pilot. For mor
 e information on the core capabilities and impact goals of Jetstream2, vis
 it jetstream-cloud.org.
URL:https://support.access-ci.org/events/7831
END:VEVENT
END:VCALENDAR