BEGIN:VCALENDAR
VERSION:2.0
PRODID:-//Drupal//recurring_events_ical//2.0//EN
BEGIN:VEVENT
UID:b851093f-75b6-4340-9763-e8a9cb60e17d@support.access-ci.org
DTSTAMP:20250214T015114Z
DTSTART:20250218T193000Z
DTEND:20250218T210000Z
SUMMARY:Building and Using Containers on the OSPool
DESCRIPTION:Learning Objectives: Topics covered in this workshop include:In
 troduction to containersHow to install software in a containerHow to use a
  container to deploy your software in an OSPool jobGetting your computatio
 nal program to run on someone else's computer can be a difficult process, 
 especially on the OSPool, where there are many different operating systems
  with a variety of programs (and versions) installed and you don't have ad
 min permissions. But what if there was a way to make sure your job always 
 ran using your desired operating system, programs, and versions that you c
 hose? In this training, we'll show you how you can achieve this very thing
  through the use of "container" technology.Prerequisites/Audience: Intende
 d for OSPool users who are familiar with logging in and submitting HTCondo
 r jobs to the OSPool. Participants should have some familiarity with shell
  commands (such as how to edit files, copy/paste in the terminal).
URL:https://support.access-ci.org/events/7832
END:VEVENT
END:VCALENDAR