BEGIN:VCALENDAR
VERSION:2.0
PRODID:-//Drupal//recurring_events_ical//2.0//EN
BEGIN:VEVENT
UID:d878f7e8-915d-4c12-8c5d-a8c24f2f5b09@support.access-ci.org
DTSTAMP:20250217T103531Z
DTSTART:20250304T160000Z
DTEND:20250305T220000Z
SUMMARY:HPC Monthly Workshop: MPI – March 4-5, 2025
DESCRIPTION:HPC Monthly Workshop: MPI – March 4-5, 2025PSC is pleased to 
 present monthly workshops on a variety of HPC topics.   Each workshop wi
 ll be telecast to multiple satellite sites.This workshop is intended to gi
 ve C and Fortran programmers a hands-on introduction to MPI programming. B
 oth days are compact, to accommodate multiple time zones, but packed with 
 useful information and lab exercises. Attendees will leave with a working 
 knowledge of how to write scalable codes using MPI – the standard progra
 mming tool of scalable parallel computing.This event will be presented usi
 ng the Wide Area Classroom(WAC) training platform. This will be an IN PER
 SON event hosted by various satellite sites, there WILL NOT be a direct to
  desktop option for this event. The satellite site list (subject to change
 ) is as follows:University of ArizonaCarnegie Mellon UniversityUniversity 
 of Central FloridaUniversity of DelawareGeorgia State UniversityGeorgia In
 stitute of TechnologyUniversity of Houston – Clear LakeUniversity of Iow
 aJet Propulsion Laboratory – NASA (Not Open To Public)National Center fo
 r Supercomputing ApplicationsNew York University, High Performance Computi
 ng GroupNorthwestern University (CIERA)University of Notre DameUniversity 
 of Texas at ArlingtonTexas Tech UniversityUniversity of UtahWest Virginia 
 UniversityYale Center for Research Computing RegistrationInterested appli
 cants must first have an ACCESS ID.  If you do not have an ACCESS ID, ple
 ase visit this page to create one:ACCESS USER REGISTRATIONOnce you have an
  ACCESS ID, please send email (indicating your ACCESS ID and which site yo
 u wish to attend) to Tom Maiden at tmaiden@psc.edu by Friday, February 28
  at Noon Eastern time.Classroom location and further details will be provi
 ded once your registration has been processed.  Thank you for your patien
 ce.QuestionsPlease address any questions to Tom Maiden at tmaiden@psc.edu
 .For updated information, please visit the workshop website:https://www.ps
 c.edu/resources/training/hpc-workshop-march-2025-mpi/All lecture links are
  to the most recent version of this workshop. Tuesday, March 4All times g
 iven are Eastern11:00Welcome11:15Computing Environment12:00Intro to Parall
 el Computing1:00Lunch Break2:00Introduction to MPI3:30Introductory Exercis
 es4:10Intro Exercises Review4:15Scalable Programming: Laplace code5:00Adjo
 urn/Laplace Exercises Wednesday, March 5All times given are Eastern11:00A
 dvanced MPI1:00Lunch Break2:00Laplace Review2:30Outro to Parallel Computin
 g3:15Parallel Debugging and Profiling Tools3:30Exercises4:30Adjourn
URL:https://support.access-ci.org/events/7833
END:VEVENT
END:VCALENDAR