BEGIN:VCALENDAR
VERSION:2.0
PRODID:-//Drupal//recurring_events_ical//2.0//EN
BEGIN:VEVENT
UID:dd4cd2f6-c25f-409e-94cb-62e5abb789c2@support.access-ci.org
DTSTAMP:20250225T134450Z
DTSTART:20250306T190000Z
DTEND:20250306T190000Z
SUMMARY:NAIRR Researcher Showcase
DESCRIPTION:Please join us for the National Artificial Intelligence Researc
 h Resource (NAIRR) pilot project Researcher Showcase.  We welcome several
  esteemed panelists who are specializing in various AI projects who will p
 rovide a brief overview of their work and provide information about their 
 motivations, challenges, and engagement with the NAIRR community. Represen
 tatives from the NAIRR effort will be on hand to answer questions as well 
 as provide a brief overview.  This showcase is for anyone of any skill le
 vel who are interested in being involved with NAIRR or AI research and edu
 cation.
URL:https://support.access-ci.org/events/7846
END:VEVENT
END:VCALENDAR