BEGIN:VCALENDAR
VERSION:2.0
PRODID:-//Drupal//recurring_events_ical//2.0//EN
BEGIN:VEVENT
UID:0a0e4d4d-16f6-45c9-a5d1-0119bdbaa1ea@support.access-ci.org
DTSTAMP:20250228T144745Z
DTSTART:20250302T140000Z
DTEND:20250303T040000Z
SUMMARY:NCSA Open Hackathon
DESCRIPTION:Together with NVIDIA and OpenACC organization, the National C
 enter for Supercomputing Applications (NCSA) will host a virtual Open Hack
 athon starting April 1 and concluding April 17.Open Hackathons are multi-d
 ay, intensive hands-on events designed to help computational scientists an
 d researchers port, accelerate and optimize their applications on a variet
 y of data center architectures including CPUs and GPUs. The event pairs pa
 rticipants with dedicated mentors experienced in programming and targeted 
 application areas to realize performance gains and speedups using a variet
 y of programming models, libraries, and tools.The goal of the Open Hackath
 on is for computational scientists to port, accelerate, and optimize their
  scientific applications to modern computer architectures, including CPUs,
  GPUs, and other computing technologies. Participating teams should leave 
 the event either with their applications accelerated and/or optimized on t
 he latest supercomputing hardware or with a clear roadmap of the next step
 s needed to leverage these resources.This hackathon is open to everyone lo
 oking to take their projects to the next level; however, priority acceptan
 ce will be given to NCSA and NAIRR affiliated scientists and their collabo
 rators.NCSA Hackathon Application Deadline: March 2, 2025Registration page
URL:https://support.access-ci.org/events/7848
END:VEVENT
END:VCALENDAR