BEGIN:VCALENDAR
VERSION:2.0
PRODID:-//Drupal//recurring_events_ical//2.0//EN
BEGIN:VEVENT
UID:f13c5d34-15fd-40bd-beff-f95030526dd2@support.access-ci.org
DTSTAMP:20250306T150723Z
DTSTART:20250312T180000Z
DTEND:20250312T190000Z
SUMMARY:Byteboost2025 - Webinar: Overview of the Byteboost Program
DESCRIPTION:🔗 Register hereJoin Dr. Eva Siegmann, Director of the Stony 
 Brook Supercomputing Center, and the Byteboost team for an in-depth look a
 t the NSF-Funded ByteBoost Cybertraining Program in this virtual webinar.
  This valuable training opportunity is designed to enhance researchers' p
 roficiency and productivity in specialized, cutting-edge hardware computin
 g technologies, including Graphcore IPUs, the Cerebras WSE, and the Fujits
 u A64FX processor. Participants will gain insights into the strengths and 
 weaknesses of each technology through a series of four webinars and an in-
 person, hands-on summer workshop. The in-person workshop will take place i
 n Pittsburgh, PA, from August 4 to August 8, 2025.📅 Date & Time: March 
 12, 2-3 pm ET💻 Location: Virtual🔗 Register here🌐 Learn more about
  ByteBoost: About Byteboost
URL:https://support.access-ci.org/events/7854
END:VEVENT
END:VCALENDAR