BEGIN:VCALENDAR
VERSION:2.0
PRODID:-//Drupal//recurring_events_ical//2.0//EN
BEGIN:VEVENT
UID:9442bdcd-a820-4085-949f-5e8545660dd1@support.access-ci.org
DTSTAMP:20250307T141121Z
DTSTART:20250502T190000Z
DTEND:20250502T200000Z
SUMMARY:Using Computational Science for Data Storytelling
DESCRIPTION:Dr. Teri Platt, Director, Isabella T. Jenkins Honors Program an
 d Associate Professor, Department of Public Administration, Clark Atlanta 
 University
URL:https://support.access-ci.org/events/7857
END:VEVENT
END:VCALENDAR