BEGIN:VCALENDAR
VERSION:2.0
PRODID:-//Drupal//recurring_events_ical//2.0//EN
BEGIN:VEVENT
UID:35b169eb-8ad1-4b8d-97e6-2284aab09149@support.access-ci.org
DTSTAMP:20250325T144309Z
DTSTART:20250422T150000Z
DTEND:20250422T173000Z
SUMMARY:ACES: Rust
DESCRIPTION:This short course provides an introduction to Rust, a modern sy
 stems programming language known for its safety, speed, and concurrency, t
 hrough hands-on coding exercises and practical examples using the ACES clu
 ster, a composable accelerator testbed at Texas A&M University.Learn more 
 at https://hprc.tamu.edu/training/aces_rust.html
URL:https://support.access-ci.org/events/7886
END:VEVENT
END:VCALENDAR