BEGIN:VCALENDAR
VERSION:2.0
PRODID:-//Drupal//recurring_events_ical//2.0//EN
BEGIN:VEVENT
UID:4527bf7c-d45e-444d-b74e-01ce43dec490@support.access-ci.org
DTSTAMP:20250325T145100Z
DTSTART:20250422T183000Z
DTEND:20250422T210000Z
SUMMARY:ACES: GPU Programming (CUDA)
DESCRIPTION:This short course covers basic topics in CUDA programming on NV
 IDIA GPUs. Topics include\n\n\n	CUDA architecture\n	basic language usage o
 f CUDA C/C++\n	writing, executing CUDA code.\n\n\nMore information about 
 this Short Course https://hprc.tamu.edu/training/intro_cuda.html
URL:https://support.access-ci.org/events/7887
END:VEVENT
END:VCALENDAR